BEGIN:VCALENDAR
VERSION:2.0
PRODID:-//InvisionCommunity Events 4.7.22//EN
METHOD:PUBLISH
CALSCALE:GREGORIAN
REFRESH-INTERVAL:PT15M
X-PUBLISHED-TTL:PT15M
X-WR-CALNAME:Community Calendar
NAME:Community Calendar
BEGIN:VTIMEZONE
TZID:Europe/London
TZURL:http://tzurl.org/zoneinfo/Europe/London
X-LIC-LOCATION:Europe/London
BEGIN:DAYLIGHT
TZOFFSETFROM:+0000
TZOFFSETTO:+0100
TZNAME:BST
DTSTART:20190331T020000Z
RRULE:FREQ=YEARLY;BYMONTH=3;BYDAY=-1SU
END:DAYLIGHT
BEGIN:STANDARD
TZOFFSETFROM:+0100
TZOFFSETTO:+0000
TZNAME:GMT
DTSTART:20191027T020000Z
RRULE:FREQ=YEARLY;BYMONTH=10;BYDAY=-1SU
END:STANDARD
END:VTIMEZONE
BEGIN:VEVENT
SUMMARY:[Бесплатны
	й Мастер-Класс для м
	ужчин] Как познакомиться с девушкой дл
	я отношений?
DTSTAMP:20181231T093012Z
SEQUENCE:0
UID:87-1-076337ae2c0f75aa10766e7ad1ee0148@forum.pickup.ru
ORGANIZER;CN="Paraman":webmaster@pickup.ru
DESCRIPTION:\n\n	Привет\, Друг!\n\n\
	n\n	Не важно проходил т
	ы у нас тренинг или тол
	ько думаешь над этим.\
	n\n\n\n	Дело в том\, ч
	то Соблазнение 
	девушек - это т
	акая штука\, которая н
	е стоит на месте\, а п
	остоянно развивается.
	\n\n\n\n	Для того\, ч
	то ты сдел
	ал свои пе
	рвые шаги в
	 соблазнен
	ии и в даль
	нейшем был в
	 теме последн
	их тенденций\, работающ
	их техник и секретных \"фише
	к\" пикапа.\n\n\n\n	В четверг
	 3 Января\, в 19-30\,
	 мы проводим
	 для тебя бесп
	латный Мастер-
	класс\, на ко
	тором мы сде
	лаем всё возмо
	жное\, чтобы ты науч
	ился знакомиться 
	и соблазнять девушек.\n\n\
	n\n	Что такое бесплатн
	ый Мастер-класс?\n\
	n\n\n	Это конце
	нтрат из осн
	овных пикап-
	тематик по 
	знакомству
	 и соблазнению\, кот
	орые тебе будут ра
	ссказывать опытне
	е тренеры.\n\n\n\n	Для ког
	о проводится беспл
	атный Мастер-класс?\
	n\n\n\n	Мастер-клас
	с проводится
	 для всех муж
	чин\, которы
	е хотят улучшить сво
	и навыки знакомства и
	 соблазнения девушек.
	\n\n\n\n	- Если у тебя 
	нет опыта прохож
	дения пикап-тренингов\,
	 тогда ты узнаешь много 
	нового.\n\n\n\n	- Если
	 ты уже проход
	ил тренинги\,
	 тогда тебе б
	удет полезн
	о обновить с
	вои знания\, 
	познакомит
	ься и задат
	ь более пр
	одвинутые во
	просы тренерам\, к
	оторые практикую
	т соблазнение каж
	дый день.\n\n\n\n	Сколько
	 проходит бесплатн
	ый Мастер-класс?\n\n\n\n	М
	астер-класс провод
	ится в течении 2х часов
	\n\n\n\n	Сколько стоит бес
	платный Мастер-класс?
	\n\n\n\n	Мастер-класс н
	е стоит денег\, 
	зато сильно с
	экономит тво
	ё время\, которое ты 
	бы тратил на самок
	опание или самообуче
	ние.\n\n\n\n	Как попасть на
	 бесплатный Масте
	р-класс?\n\n\n\n	На 
	Мастер-класс можн
	о зарегистрироваться\, пер
	ейдя по ссылке\n\n\n\n	ЗАПИСАТЬСЯ НА МС\n\n\n\
	n	До встречи!\n\n
DTSTART:20190103T163000Z
DTEND:20190103T183000Z
END:VEVENT
END:VCALENDAR
