BEGIN:VCALENDAR
VERSION:2.0
PRODID:-//InvisionCommunity Events 4.7.22//EN
METHOD:PUBLISH
CALSCALE:GREGORIAN
REFRESH-INTERVAL:PT15M
X-PUBLISHED-TTL:PT15M
X-WR-CALNAME:Community Calendar
NAME:Community Calendar
BEGIN:VTIMEZONE
TZID:Europe/London
TZURL:http://tzurl.org/zoneinfo/Europe/London
X-LIC-LOCATION:Europe/London
BEGIN:DAYLIGHT
TZOFFSETFROM:+0000
TZOFFSETTO:+0100
TZNAME:BST
DTSTART:20190331T020000Z
RRULE:FREQ=YEARLY;BYMONTH=3;BYDAY=-1SU
END:DAYLIGHT
BEGIN:STANDARD
TZOFFSETFROM:+0100
TZOFFSETTO:+0000
TZNAME:GMT
DTSTART:20191027T020000Z
RRULE:FREQ=YEARLY;BYMONTH=10;BYDAY=-1SU
END:STANDARD
END:VTIMEZONE
BEGIN:VEVENT
SUMMARY:[Бесплатны
	й Мастер-Класс для
	 девушек] Как познакомиться с м
	ужчиной для отношений?
DTSTAMP:20181231T095413Z
SEQUENCE:0
UID:88-1-076337ae2c0f75aa10766e7ad1ee0148@forum.pickup.ru
ORGANIZER;CN="Paraman":webmaster@pickup.ru
DESCRIPTION:\n\n	Здравствуйте\, ми
	лые Дамы!\n\n\n\n	Хо
	чу приглас
	ить вас на бесплат
	ный Мастер-класс 
	по новой современно
	й программе.\n\n\n
	\n	Соблазнение н
	е стоит на месте\, а
	 постоянно развивается
	\, также как и знакомств
	о.\n\n\n\n	Для того\
	, что вы сделал
	и свои первые шаги в с
	облазнении мужчины\, а н
	е ждали их от него - \n\n\n\n	В 
	четверг 10 Января\, 
	в 19-30\, мы прово
	дим для вас 
	бесплатный Мас
	тер-класс\, на
	 котором мы с
	делаем всё 
	возможное\,
	 чтобы вы научились
	 знакомиться и соб
	лазнять мужчину своей
	 мечты.\n\n\n\n	Что такое б
	есплатный Мастер-к
	ласс?\n\n\n\n	Это 
	концентрат и
	з основных т
	ематик по з
	накомству и
	 соблазнен
	ию\, котор
	ые вам будет расс
	казывать опытный
	 и харизматичный 
	тренер-мужчина.\n\n\n\n
		Для кого проводит
	ся бесплатный Маст
	ер-класс?\n\n\n\n	Мас
	тер-класс про
	водится для в
	сех девушек и
	 женщин\, которы
	е хотят улучшить свои
	 навыки знакомства и 
	соблазнения.\n\n\n\n	-
	 Если у вас не
	т опыта прохождени
	я пикап-тренингов\, тогд
	а вы узнаете много ново
	го.\n\n\n\n	- Если вы у
	же проходили т
	ренинги\, тогд
	а вам будет п
	олезно обно
	вить свои з
	нания\, позн
	акомиться и
	 задать бо
	лее продви
	нутые вопросы тре
	неру\, который пра
	ктикует соблазне
	ние каждый день.\n\n\n\n	
	Сколько проходит 
	бесплатный Мастер-к
	ласс?\n\n\n\n	Мастер-класс 
	проводится в течен
	ии 2х часов\n\n\n\n	Сколько
	 стоит бесплатный Мас
	тер-класс?\n\n\n\n	Ма
	стер-класс не с
	тоит денег\, за
	то сильно сэк
	ономит ваше 
	время\, которое вы б
	ы тратили на самок
	опание или самообуче
	ние.\n\n\n\n	Как попасть на
	 бесплатный Масте
	р-класс?\n\n\n\n	На 
	Мастер-класс можн
	о зарегистрироваться\, пер
	ейдя по ссылке\n\n\n\n	ЗАПИСАТЬСЯ НА МС\n\n\n\
	n	До встречи!\n\n
DTSTART:20190110T163000Z
DTEND:20190110T183000Z
END:VEVENT
END:VCALENDAR
