BEGIN:VCALENDAR
VERSION:2.0
PRODID:-//InvisionCommunity Events 4.7.22//EN
METHOD:PUBLISH
CALSCALE:GREGORIAN
REFRESH-INTERVAL:PT15M
X-PUBLISHED-TTL:PT15M
X-WR-CALNAME:Community Calendar
NAME:Community Calendar
BEGIN:VTIMEZONE
TZID:Europe/London
TZURL:http://tzurl.org/zoneinfo/Europe/London
X-LIC-LOCATION:Europe/London
BEGIN:DAYLIGHT
TZOFFSETFROM:+0000
TZOFFSETTO:+0100
TZNAME:BST
DTSTART:20190331T020000Z
RRULE:FREQ=YEARLY;BYMONTH=3;BYDAY=-1SU
END:DAYLIGHT
BEGIN:STANDARD
TZOFFSETFROM:+0100
TZOFFSETTO:+0000
TZNAME:GMT
DTSTART:20191027T020000Z
RRULE:FREQ=YEARLY;BYMONTH=10;BYDAY=-1SU
END:STANDARD
END:VTIMEZONE
BEGIN:VEVENT
SUMMARY:[Бесплатны
	й Мастер-класс] Как познакомиться с деву
	шкой для отношений?
DTSTAMP:20190123T170346Z
SEQUENCE:0
UID:93-1-076337ae2c0f75aa10766e7ad1ee0148@forum.pickup.ru
ORGANIZER;CN="Paraman":webmaster@pickup.ru
DESCRIPTION:\n\n	Привет\, Друг!\n\n\
	n\n	Не важно проходил т
	ы у нас тренинг или тол
	ько думаешь над этим.\
	n\n\n\n	Дело в том\, ч
	то Соблазнение 
	девушек - это т
	акая штука\, которая н
	е стоит на месте\, а п
	остоянно развивается.
	\n\n\n\n	Для того\, ч
	то ты сдел
	ал свои пе
	рвые шаги в
	 соблазнен
	ии и в даль
	нейшем был в
	 теме последн
	их тенденций\, работающ
	их техник и секретных \"фишек\"
	 пикапа.\n\n\n\n	В среду 30 Я
	нваря\, в 19-30\, м
	ы проводим д
	ля тебя беспл
	атный Мастер-к
	ласс\, на кот
	ором мы сдел
	аем всё возможн
	ое\, чтобы ты научился знак
	омиться и соблазнять дев
	ушек.\n\n\n\n	 \n\n\n\n	ЧТО ТАКОЕ
	 БЕСПЛАТНЫЙ МАСТЕ
	Р-КЛАСС?\n\n\n\n	Это
	 концентрат 
	из основных 
	пикап-темат
	ик по знаком
	ству и соблазнен
	ию\, которые тебе будут рас
	сказывать опытнее тренер
	ы.\n\n\n\n	 \n\n\n\n	ДЛЯ КОГО ПРОВ
	ОДИТСЯ БЕСПЛАТНЫЙ 
	МАСТЕР-КЛАСС?\n\n\n\
	n	Мастер-класс
	 проводится 
	для всех муж
	чин\, которы
	е хотят улучшить сво
	и навыки знакомства и
	 соблазнения девушек.
	\n\n\n\n	- Если у тебя 
	нет опыта прохож
	дения пикап-тренингов\,
	 тогда ты узнаешь много 
	нового.\n\n\n\n	- Если
	 ты уже проход
	ил тренинги\,
	 тогда тебе б
	удет полезн
	о обновить с
	вои знания\, 
	познакомит
	ься и задат
	ь более пр
	одвинутые во
	просы тренерам\, котор
	ые практикуют соблазнение
	 каждый день.\n\n\n\n	 \n\
	n\n\n	В ЧЁМ ПРЕИМУЩЕСТВО 
	БЕСПЛАТНОГО МАСТЕР-
	КЛАССА?\n\n\n\n	- М
	ы не только 
	рассказывае
	м интересные вещи 
	на Мастер-классе\, но и зас
	тавляем их попробовать!\n
	\n\n\n	 \n\n\n\n	СКОЛЬКО ПО ВР
	ЕМЕНИ ДЛИТСЯ БЕСПЛ
	АТНЫЙ МАСТЕР-КЛАСС?\n\n
	\n\n	Мастер-класс проводится в 
	течении 2х часов\n\n\n\n	
	 \n\n\n\n	СКОЛЬКО СТОИТ 
	БЕСПЛАТНЫЙ МАСТЕР-К
	ЛАСС?\n\n\n\n	Мастер-
	класс не стоит д
	енег\, зато сил
	ьно сэкономит
	 твоё время\, которо
	е ты бы тратил на самокопан
	ие или самообучение.\n\n\
	n\n	 \n\n\n\n	КАК ПОПАСТЬ НА БЕ
	СПЛАТНЫЙ МАСТЕР-КЛАСС?\n\n\n\
	n	Нажми на &gt\;&gt\;ХОЧУ НА МАСТЕР-КЛАС
	С&lt\;&lt\;\n\n\n\n	До встречи!\n\n
DTSTART:20190130T163000Z
DTEND:20190130T183000Z
END:VEVENT
END:VCALENDAR
