BEGIN:VCALENDAR
VERSION:2.0
PRODID:-//InvisionCommunity Events 4.7.22//EN
METHOD:PUBLISH
CALSCALE:GREGORIAN
REFRESH-INTERVAL:PT15M
X-PUBLISHED-TTL:PT15M
X-WR-CALNAME:Community Calendar
NAME:Community Calendar
BEGIN:VTIMEZONE
TZID:Europe/London
TZURL:http://tzurl.org/zoneinfo/Europe/London
X-LIC-LOCATION:Europe/London
BEGIN:DAYLIGHT
TZOFFSETFROM:+0000
TZOFFSETTO:+0100
TZNAME:BST
DTSTART:20190331T020000Z
RRULE:FREQ=YEARLY;BYMONTH=3;BYDAY=-1SU
END:DAYLIGHT
BEGIN:STANDARD
TZOFFSETFROM:+0100
TZOFFSETTO:+0000
TZNAME:GMT
DTSTART:20191027T020000Z
RRULE:FREQ=YEARLY;BYMONTH=10;BYDAY=-1SU
END:STANDARD
END:VTIMEZONE
BEGIN:VEVENT
SUMMARY:[Бесплатны
	й Мастер-Класс для м
	ужчин] Как познакомиться с девушкой дл
	я отношений?
DTSTAMP:20190207T235418Z
SEQUENCE:0
UID:95-1-076337ae2c0f75aa10766e7ad1ee0148@forum.pickup.ru
ORGANIZER;CN="Paraman":webmaster@pickup.ru
DESCRIPTION:\n\n	Привет\, мужчина!\n
	\n\n\n	Не важно проходи
	л ты у нас тренинг или т
	олько думаешь над эти
	м.\n\n\n\n	Дело в том\,
	 что Соблазнение
	 девушек - это т
	акая штука\, которая н
	е стоит на месте\, а п
	остоянно развивается.
	\n\n\n\n	Для того\, ч
	то ты сдел
	ал свои пе
	рвые шаги в
	 соблазнен
	ии и в даль
	нейшем был в
	 теме последн
	их тенденций\, работающ
	их техник и секретных \"фишек
	\" пикапа.\n\n\n\n	В среду 13 
	Февраля\, в 19-30\,
	 мы проводим
	 для тебя бесп
	латный Мастер-
	класс\, на ко
	тором мы сде
	лаем всё возмо
	жное\, чтобы ты науч
	ился знакомиться 
	и соблазнять девушек.\n\n\
	n\n	Что такое бесплатн
	ый Мастер-класс?\n\
	n\n\n	Это конце
	нтрат из осн
	овных пикап-
	тематик по 
	знакомству
	 и соблазнению\, кот
	орые тебе будут ра
	ссказывать опытне
	е тренеры.\n\n\n\n	Для ког
	о проводится беспл
	атный Мастер-класс?\
	n\n\n\n	Мастер-клас
	с проводится
	 для всех муж
	чин\, которы
	е хотят улучшить сво
	и навыки знакомства и
	 соблазнения девушек.
	\n\n\n\n	- Если у тебя 
	нет опыта прохож
	дения пикап-тренингов\,
	 тогда ты узнаешь много 
	нового.\n\n\n\n	- Если
	 ты уже проход
	ил тренинги\,
	 тогда тебе б
	удет полезн
	о обновить с
	вои знания\, 
	познакомит
	ься и задат
	ь более пр
	одвинутые во
	просы тренерам\, ко
	торые практикуют 
	соблазнение кажды
	й день.\n\n\n\n	В чем пр
	еимущества нашего б
	есплатного Мастер-к
	ласса?\n\n\n\n	Наш 
	Мастер-клас
	с - это уникаль
	ное сочетание пол
	езной теории в с
	очетании с  практи
	кой.\n\n\n\n	Сколько прох
	одит бесплатный Мас
	тер-класс?\n\n\n\n	Мастер-к
	ласс проводится в 
	течении 2х часов\n\n\n\n	С
	колько стоит беспла
	тный Мастер-класс?\n\
	n\n\n	Мастер-класс н
	е стоит денег\, 
	зато сильно с
	экономит тво
	ё время\, которое ты 
	бы тратил на самок
	опание или самообуче
	ние.\n\n\n\n	Как попасть на
	 бесплатный Масте
	р-класс?\n\n\n\n	На 
	Мастер-класс можно зареги
	стрироваться\, перейдя по ссылк
	е\n\n\n\n	&gt\;&gt\;&gt\;ЗАПИСАТЬСЯ НА Б
	ЕСПЛАТНЫЙ МАСТЕР-КЛАСС&lt\;&lt\;&lt\;\n\n\n\n
		До встречи!\n\n
DTSTART:20190213T163000Z
DTEND:20190213T183000Z
END:VEVENT
END:VCALENDAR
